BEGIN:VCALENDAR
VERSION:2.0
PRODID:-//Paddy Whelan`s - ECPv4.0.5//NONSGML v1.0//EN
CALSCALE:GREGORIAN
METHOD:PUBLISH
X-WR-CALNAME:Paddy Whelan`s
X-ORIGINAL-URL:https://www.paddywhelans.com
X-WR-CALDESC:Events for Paddy Whelan`s
BEGIN:VEVENT
DTSTART;TZID="UTC+3":20180808T195500
DTEND;TZID="UTC+3":20180808T195500
DTSTAMP:20260426T022708
CREATED:20180805T121045
LAST-MODIFIED:20180805T121045
UID:5371-1533758100-1533758100@www.paddywhelans.com
SUMMARY:Football – Friendlies: Villarreal VS Real Zaragoza
DESCRIPTION:
URL:https://www.paddywhelans.com/event/football-friendlies-villarreal-vs-real-zaragoza/
CATEGORIES:International Football
END:VEVENT
END:VCALENDAR