BEGIN:VCALENDAR
VERSION:2.0
PRODID:-//Paddy Whelan`s - ECPv4.0.5//NONSGML v1.0//EN
CALSCALE:GREGORIAN
METHOD:PUBLISH
X-WR-CALNAME:Paddy Whelan`s
X-ORIGINAL-URL:https://www.paddywhelans.com
X-WR-CALDESC:Events for Paddy Whelan`s
BEGIN:VEVENT
DTSTART;TZID="UTC+3":20180717T195500
DTEND;TZID="UTC+3":20180717T195500
DTSTAMP:20260423T151254
CREATED:20180715T090827
LAST-MODIFIED:20180715T090827
UID:5320-1531857300-1531857300@www.paddywhelans.com
SUMMARY:Football – Friendlies: Stambulas Bešiktaš VS Reading
DESCRIPTION:
URL:https://www.paddywhelans.com/event/football-friendlies-stambulas-besiktas-vs-reading/
CATEGORIES:International Football
END:VEVENT
END:VCALENDAR