BEGIN:VCALENDAR
VERSION:2.0
PRODID:-//Paddy Whelan`s - ECPv4.0.5//NONSGML v1.0//EN
CALSCALE:GREGORIAN
METHOD:PUBLISH
X-WR-CALNAME:Paddy Whelan`s
X-ORIGINAL-URL:https://www.paddywhelans.com
X-WR-CALDESC:Events for Paddy Whelan`s
BEGIN:VEVENT
DTSTART;TZID="UTC+3":20180801T214000
DTEND;TZID="UTC+3":20180801T214000
DTSTAMP:20260424T233010
CREATED:20180729T221904
LAST-MODIFIED:20180729T221904
UID:5357-1533159600-1533159600@www.paddywhelans.com
SUMMARY:Football – Friendlies: Southampton VS Celta Vigo
DESCRIPTION:
URL:https://www.paddywhelans.com/event/football-friendlies-southampton-vs-celta-vigo/
CATEGORIES:International Football
END:VEVENT
END:VCALENDAR