BEGIN:VCALENDAR
VERSION:2.0
PRODID:-//Paddy Whelan`s - ECPv4.0.5//NONSGML v1.0//EN
CALSCALE:GREGORIAN
METHOD:PUBLISH
X-WR-CALNAME:Paddy Whelan`s
X-ORIGINAL-URL:https://www.paddywhelans.com
X-WR-CALDESC:Events for Paddy Whelan`s
BEGIN:VEVENT
DTSTART;TZID="UTC+3":20180718T192500
DTEND;TZID="UTC+3":20180718T192500
DTSTAMP:20260423T165422
CREATED:20180715T090914
LAST-MODIFIED:20180715T090914
UID:5321-1531941900-1531941900@www.paddywhelans.com
SUMMARY:Football – Friendlies: Sion VS Milānas Inter
DESCRIPTION:
URL:https://www.paddywhelans.com/event/football-friendlies-sion-vs-milanas-inter/
CATEGORIES:International Football
END:VEVENT
END:VCALENDAR