BEGIN:VCALENDAR
VERSION:2.0
PRODID:-//Paddy Whelan`s - ECPv4.0.5//NONSGML v1.0//EN
CALSCALE:GREGORIAN
METHOD:PUBLISH
X-WR-CALNAME:Paddy Whelan`s
X-ORIGINAL-URL:https://www.paddywhelans.com
X-WR-CALDESC:Events for Paddy Whelan`s
BEGIN:VEVENT
DTSTART;TZID="UTC+3":20190119T142000
DTEND;TZID="UTC+3":20190119T142000
DTSTAMP:20260422T060346
CREATED:20190113T143520
LAST-MODIFIED:20190113T143520
UID:5994-1547907600-1547907600@www.paddywhelans.com
SUMMARY:Football – English Premier League: Wolverhampton Wanderers VS Leicester City
DESCRIPTION:
URL:https://www.paddywhelans.com/event/football-english-premier-league-wolverhampton-wanderers-vs-leicester-city/
CATEGORIES:English Premier Leaugue
END:VEVENT
END:VCALENDAR