BEGIN:VCALENDAR
VERSION:2.0
PRODID:-//Paddy Whelan`s - ECPv4.0.5//NONSGML v1.0//EN
CALSCALE:GREGORIAN
METHOD:PUBLISH
X-WR-CALNAME:Paddy Whelan`s
X-ORIGINAL-URL:https://www.paddywhelans.com
X-WR-CALDESC:Events for Paddy Whelan`s
BEGIN:VEVENT
DTSTART;TZID="UTC+3":20181229T165000
DTEND;TZID="UTC+3":20181229T165000
DTSTAMP:20260423T180504
CREATED:20181223T205456
LAST-MODIFIED:20181223T205456
UID:5905-1546102200-1546102200@www.paddywhelans.com
SUMMARY:Football – English Premier League: Tottenham Hotspur VS Wolverhampton Wanderers
DESCRIPTION:
URL:https://www.paddywhelans.com/event/football-english-premier-league-tottenham-hotspur-vs-wolverhampton-wanderers/
CATEGORIES:English Premier Leaugue
END:VEVENT
END:VCALENDAR