BEGIN:VCALENDAR
VERSION:2.0
PRODID:-//Paddy Whelan`s - ECPv4.0.5//NONSGML v1.0//EN
CALSCALE:GREGORIAN
METHOD:PUBLISH
X-WR-CALNAME:Paddy Whelan`s
X-ORIGINAL-URL:https://www.paddywhelans.com
X-WR-CALDESC:Events for Paddy Whelan`s
BEGIN:VEVENT
DTSTART;TZID="UTC+3":20180810T215000
DTEND;TZID="UTC+3":20180810T215000
DTSTAMP:20260426T041827
CREATED:20180805T121129
LAST-MODIFIED:20180805T121129
UID:5372-1533937800-1533937800@www.paddywhelans.com
SUMMARY:Football – English Premier League : Manchester United VS Leicester City
DESCRIPTION:
URL:https://www.paddywhelans.com/event/football-english-premier-league-manchester-united-vs-leicester-city/
CATEGORIES:English Premier Leaugue
END:VEVENT
END:VCALENDAR