BEGIN:VCALENDAR
VERSION:2.0
PRODID:-//Paddy Whelan`s - ECPv4.0.5//NONSGML v1.0//EN
CALSCALE:GREGORIAN
METHOD:PUBLISH
X-WR-CALNAME:Paddy Whelan`s
X-ORIGINAL-URL:https://www.paddywhelans.com
X-WR-CALDESC:Events for Paddy Whelan`s
BEGIN:VEVENT
DTSTART;TZID="UTC+3":20181230T182000
DTEND;TZID="UTC+3":20181230T182000
DTSTAMP:20260423T162726
CREATED:20181223T210022
LAST-MODIFIED:20181223T210022
UID:5915-1546194000-1546194000@www.paddywhelans.com
SUMMARY:Football – English Premier League: Manchester United VS A.F.C. Bournemouth
DESCRIPTION:
URL:https://www.paddywhelans.com/event/football-english-premier-league-manchester-united-vs-a-f-c-bournemouth/
CATEGORIES:English Premier Leaugue
END:VEVENT
END:VCALENDAR