BEGIN:VCALENDAR
VERSION:2.0
PRODID:-//Paddy Whelan`s - ECPv4.0.5//NONSGML v1.0//EN
CALSCALE:GREGORIAN
METHOD:PUBLISH
X-WR-CALNAME:Paddy Whelan`s
X-ORIGINAL-URL:https://www.paddywhelans.com
X-WR-CALDESC:Events for Paddy Whelan`s
BEGIN:VEVENT
DTSTART;TZID="UTC+3":20190114T215000
DTEND;TZID="UTC+3":20190114T215000
DTSTAMP:20260422T143235
CREATED:20190113T142020
LAST-MODIFIED:20190113T142020
UID:5981-1547502600-1547502600@www.paddywhelans.com
SUMMARY:Football – English Premier League: Manchester City VS Wolverhampton Wanderers
DESCRIPTION:
URL:https://www.paddywhelans.com/event/football-english-premier-league-manchester-city-vs-wolverhampton-wanderers/
CATEGORIES:English Premier Leaugue
END:VEVENT
END:VCALENDAR