BEGIN:VCALENDAR
VERSION:2.0
PRODID:-//Paddy Whelan`s - ECPv4.0.5//NONSGML v1.0//EN
CALSCALE:GREGORIAN
METHOD:PUBLISH
X-WR-CALNAME:Paddy Whelan`s
X-ORIGINAL-URL:https://www.paddywhelans.com
X-WR-CALDESC:Events for Paddy Whelan`s
BEGIN:VEVENT
DTSTART;TZID="UTC+3":20190130T215000
DTEND;TZID="UTC+3":20190130T215000
DTSTAMP:20260421T062226
CREATED:20190127T160528
LAST-MODIFIED:20190127T160528
UID:6027-1548885000-1548885000@www.paddywhelans.com
SUMMARY:Football – English Premier League: Liverpool VS Leicester City
DESCRIPTION:
URL:https://www.paddywhelans.com/event/football-english-premier-league-liverpool-vs-leicester-city/
CATEGORIES:English Premier Leaugue
END:VEVENT
END:VCALENDAR