BEGIN:VCALENDAR
VERSION:2.0
PRODID:-//Paddy Whelan`s - ECPv4.0.5//NONSGML v1.0//EN
CALSCALE:GREGORIAN
METHOD:PUBLISH
X-WR-CALNAME:Paddy Whelan`s
X-ORIGINAL-URL:https://www.paddywhelans.com
X-WR-CALDESC:Events for Paddy Whelan`s
BEGIN:VEVENT
DTSTART;TZID="UTC+3":20181222T192000
DTEND;TZID="UTC+3":20181222T192000
DTSTAMP:20260424T180659
CREATED:20181217T095816
LAST-MODIFIED:20181217T095816
UID:5873-1545506400-1545506400@www.paddywhelans.com
SUMMARY:Football – English Premier League: Cardiff City VS Manchester United
DESCRIPTION:
URL:https://www.paddywhelans.com/event/football-english-premier-league-cardiff-city-vs-manchester-united/
CATEGORIES:English Premier Leaugue
END:VEVENT
END:VCALENDAR