BEGIN:VCALENDAR
VERSION:2.0
PRODID:-//Paddy Whelan`s - ECPv4.0.5//NONSGML v1.0//EN
CALSCALE:GREGORIAN
METHOD:PUBLISH
X-WR-CALNAME:Paddy Whelan`s
X-ORIGINAL-URL:https://www.paddywhelans.com
X-WR-CALDESC:Events for Paddy Whelan`s
BEGIN:VEVENT
DTSTART;TZID="UTC+3":20190112T165000
DTEND;TZID="UTC+3":20190112T165000
DTSTAMP:20260422T173128
CREATED:20190105T213550
LAST-MODIFIED:20190105T213550
UID:5966-1547311800-1547311800@www.paddywhelans.com
SUMMARY:Football – English Premier League: Brighton & Hove Albion VS Liverpool
DESCRIPTION:
URL:https://www.paddywhelans.com/event/football-english-premier-league-brighton-hove-albion-vs-liverpool/
CATEGORIES:English Premier Leaugue
END:VEVENT
END:VCALENDAR