BEGIN:VCALENDAR
VERSION:2.0
PRODID:-//Paddy Whelan`s - ECPv4.0.5//NONSGML v1.0//EN
CALSCALE:GREGORIAN
METHOD:PUBLISH
X-WR-CALNAME:Paddy Whelan`s
X-ORIGINAL-URL:https://www.paddywhelans.com
X-WR-CALDESC:Events for Paddy Whelan`s
BEGIN:VEVENT
DTSTART;TZID="UTC+3":20190101T165000
DTEND;TZID="UTC+3":20190101T165000
DTSTAMP:20260423T130251
CREATED:20181229T153707
LAST-MODIFIED:20181229T153707
UID:5921-1546361400-1546361400@www.paddywhelans.com
SUMMARY:Football – English Premier League: Arsenal VS Fulham
DESCRIPTION:
URL:https://www.paddywhelans.com/event/football-english-premier-league-arsenal-vs-fulham/
CATEGORIES:English Premier Leaugue
END:VEVENT
END:VCALENDAR