BEGIN:VCALENDAR
VERSION:2.0
PRODID:-//Paddy Whelan`s - ECPv4.0.5//NONSGML v1.0//EN
CALSCALE:GREGORIAN
METHOD:PUBLISH
X-WR-CALNAME:Paddy Whelan`s
X-ORIGINAL-URL:https://www.paddywhelans.com
X-WR-CALDESC:Events for Paddy Whelan`s
BEGIN:VEVENT
DTSTART;TZID="UTC+3":20180703T204500
DTEND;TZID="UTC+3":20180703T204500
DTSTAMP:20260420T203956
CREATED:20180702T080918
LAST-MODIFIED:20180702T080918
UID:5294-1530650700-1530650700@www.paddywhelans.com
SUMMARY:Football – 2018 FIFA World Cup Russia: 1/8 final\, Colombia VS England
DESCRIPTION:
URL:https://www.paddywhelans.com/event/football-2018-fifa-world-cup-russia-18-final-colombia-vs-england/
END:VEVENT
END:VCALENDAR