BEGIN:VCALENDAR
VERSION:2.0
PRODID:-//Paddy Whelan`s - ECPv4.0.5//NONSGML v1.0//EN
CALSCALE:GREGORIAN
METHOD:PUBLISH
X-WR-CALNAME:Paddy Whelan`s
X-ORIGINAL-URL:https://www.paddywhelans.com
X-WR-CALDESC:Events for Paddy Whelan`s
BEGIN:VEVENT
DTSTART;TZID="UTC+3":20220828T214500
DTEND;TZID="UTC+3":20220828T230000
DTSTAMP:20260425T152130
CREATED:20220820T151545
LAST-MODIFIED:20220820T151545
UID:17477-1661723100-1661727600@www.paddywhelans.com
SUMMARY:Fiorentina – Napoli
DESCRIPTION:
URL:https://www.paddywhelans.com/event/fiorentina-napoli/
CATEGORIES:Continental Europe Football
END:VEVENT
END:VCALENDAR