BEGIN:VCALENDAR
VERSION:2.0
PRODID:-//Paddy Whelan`s - ECPv4.0.5//NONSGML v1.0//EN
CALSCALE:GREGORIAN
METHOD:PUBLISH
X-WR-CALNAME:Paddy Whelan`s
X-ORIGINAL-URL:https://www.paddywhelans.com
X-WR-CALDESC:Events for Paddy Whelan`s
BEGIN:VEVENT
DTSTART;TZID="UTC+3":20220923T214500
DTEND;TZID="UTC+3":20220923T230000
DTSTAMP:20260425T223642
CREATED:20220916T163712
LAST-MODIFIED:20220916T163712
UID:17895-1663969500-1663974000@www.paddywhelans.com
SUMMARY:Finland – Rumania
DESCRIPTION:
URL:https://www.paddywhelans.com/event/finland-rumania/
CATEGORIES:Continental Europe Football
END:VEVENT
END:VCALENDAR