BEGIN:VCALENDAR
VERSION:2.0
PRODID:-//Paddy Whelan`s - ECPv4.0.5//NONSGML v1.0//EN
CALSCALE:GREGORIAN
METHOD:PUBLISH
X-WR-CALNAME:Paddy Whelan`s
X-ORIGINAL-URL:https://www.paddywhelans.com
X-WR-CALDESC:Events for Paddy Whelan`s
BEGIN:VEVENT
DTSTART;TZID="UTC+3":20180701T204500
DTEND;TZID="UTC+3":20180701T204500
DTSTAMP:20260420T212112
CREATED:20180625T213619
LAST-MODIFIED:20180625T213619
UID:5286-1530477900-1530477900@www.paddywhelans.com
SUMMARY:FIFA World Cup Russia: 1/8 final
DESCRIPTION:
URL:https://www.paddywhelans.com/event/fifa-world-cup-russia-18-final-2/
END:VEVENT
END:VCALENDAR