BEGIN:VCALENDAR
VERSION:2.0
PRODID:-//Paddy Whelan`s - ECPv4.0.5//NONSGML v1.0//EN
CALSCALE:GREGORIAN
METHOD:PUBLISH
X-WR-CALNAME:Paddy Whelan`s
X-ORIGINAL-URL:https://www.paddywhelans.com
X-WR-CALDESC:Events for Paddy Whelan`s
BEGIN:VEVENT
DTSTART;TZID="UTC+3":20180628T192000
DTEND;TZID="UTC+3":20180628T192000
DTSTAMP:20260420T123125
CREATED:20180622T084650
LAST-MODIFIED:20180622T084650
UID:5279-1530213600-1530213600@www.paddywhelans.com
SUMMARY:FIBA World Cup European Qualifiers: Poland VS Lithuania
DESCRIPTION:
URL:https://www.paddywhelans.com/event/fiba-world-cup-european-qualifiers-poland-vs-lithuania/
CATEGORIES:Basketball
END:VEVENT
END:VCALENDAR