BEGIN:VCALENDAR
VERSION:2.0
PRODID:-//Paddy Whelan`s - ECPv4.0.5//NONSGML v1.0//EN
CALSCALE:GREGORIAN
METHOD:PUBLISH
X-WR-CALNAME:Paddy Whelan`s
X-ORIGINAL-URL:https://www.paddywhelans.com
X-WR-CALDESC:Events for Paddy Whelan`s
BEGIN:VEVENT
DTSTART;TZID="UTC+3":20180701T151500
DTEND;TZID="UTC+3":20180701T170000
DTSTAMP:20260420T171608
CREATED:20180622T084825
LAST-MODIFIED:20180622T084825
UID:5281-1530458100-1530464400@www.paddywhelans.com
SUMMARY:F1: Austria GP
DESCRIPTION:
URL:https://www.paddywhelans.com/event/f1-austria-gp/
CATEGORIES:Motor Sports/F1
END:VEVENT
END:VCALENDAR