BEGIN:VCALENDAR
VERSION:2.0
PRODID:-//Paddy Whelan`s - ECPv4.0.5//NONSGML v1.0//EN
CALSCALE:GREGORIAN
METHOD:PUBLISH
X-WR-CALNAME:Paddy Whelan`s
X-ORIGINAL-URL:https://www.paddywhelans.com
X-WR-CALDESC:Events for Paddy Whelan`s
BEGIN:VEVENT
DTSTART;TZID="UTC+3":20220925T170000
DTEND;TZID="UTC+3":20220925T190000
DTSTAMP:20260426T042636
CREATED:20220916T172817
LAST-MODIFIED:20220916T172817
UID:17923-1664125200-1664132400@www.paddywhelans.com
SUMMARY:Exeter Chiefs – Harlequins
DESCRIPTION:
URL:https://www.paddywhelans.com/event/exeter-chiefs-harlequins/
CATEGORIES:Rugby Union
END:VEVENT
END:VCALENDAR