BEGIN:VCALENDAR
VERSION:2.0
PRODID:-//Paddy Whelan`s - ECPv4.0.5//NONSGML v1.0//EN
CALSCALE:GREGORIAN
METHOD:PUBLISH
X-WR-CALNAME:Paddy Whelan`s
X-ORIGINAL-URL:https://www.paddywhelans.com
X-WR-CALDESC:Events for Paddy Whelan`s
BEGIN:VEVENT
DTSTART;TZID="UTC+3":20220826T140000
DTEND;TZID="UTC+3":20220826T150000
DTSTAMP:20260426T002001
CREATED:20220820T143403
LAST-MODIFIED:20220820T143403
UID:17437-1661522400-1661526000@www.paddywhelans.com
SUMMARY:Europe League Draw
DESCRIPTION:
URL:https://www.paddywhelans.com/event/europe-league-draw/
CATEGORIES:UEFA Europa League
END:VEVENT
END:VCALENDAR