BEGIN:VCALENDAR
VERSION:2.0
PRODID:-//Paddy Whelan`s - ECPv4.0.5//NONSGML v1.0//EN
CALSCALE:GREGORIAN
METHOD:PUBLISH
X-WR-CALNAME:Paddy Whelan`s
X-ORIGINAL-URL:https://www.paddywhelans.com
X-WR-CALDESC:Events for Paddy Whelan`s
BEGIN:VEVENT
DTSTART;TZID="UTC+3":20220910T171500
DTEND;TZID="UTC+3":20220910T190000
DTSTAMP:20260425T031059
CREATED:20220903T181531
LAST-MODIFIED:20220903T181531
UID:17729-1662830100-1662836400@www.paddywhelans.com
SUMMARY:Espanyol – Sevilla
DESCRIPTION:
URL:https://www.paddywhelans.com/event/espanyol-sevilla/
CATEGORIES:La Liga
END:VEVENT
END:VCALENDAR