BEGIN:VCALENDAR
VERSION:2.0
PRODID:-//Paddy Whelan`s - ECPv4.0.5//NONSGML v1.0//EN
CALSCALE:GREGORIAN
METHOD:PUBLISH
X-WR-CALNAME:Paddy Whelan`s
X-ORIGINAL-URL:https://www.paddywhelans.com
X-WR-CALDESC:Events for Paddy Whelan`s
BEGIN:VEVENT
DTSTART;TZID="UTC+3":20220827T182500
DTEND;TZID="UTC+3":20220827T200000
DTSTAMP:20260425T205445
CREATED:20220820T145447
LAST-MODIFIED:20220820T145632
UID:17459-1661624700-1661630400@www.paddywhelans.com
SUMMARY:Elche – Real Sociedad
DESCRIPTION:
URL:https://www.paddywhelans.com/event/elche-real-sociedad/
CATEGORIES:La Liga
END:VEVENT
END:VCALENDAR