BEGIN:VCALENDAR
VERSION:2.0
PRODID:-//Paddy Whelan`s - ECPv4.0.5//NONSGML v1.0//EN
CALSCALE:GREGORIAN
METHOD:PUBLISH
X-WR-CALNAME:Paddy Whelan`s
X-ORIGINAL-URL:https://www.paddywhelans.com
X-WR-CALDESC:Events for Paddy Whelan`s
BEGIN:VEVENT
DTSTART;TZID="UTC+3":20220924T110000
DTEND;TZID="UTC+3":20220925T210000
DTSTAMP:20260426T001808
CREATED:20220916T164055
LAST-MODIFIED:20220916T164055
UID:17901-1664017200-1664139600@www.paddywhelans.com
SUMMARY:DTM Spielberg
DESCRIPTION:
URL:https://www.paddywhelans.com/event/dtm-spielberg/
CATEGORIES:Motor Sports/F1
END:VEVENT
END:VCALENDAR