BEGIN:VCALENDAR
VERSION:2.0
PRODID:-//Paddy Whelan`s - ECPv4.0.5//NONSGML v1.0//EN
CALSCALE:GREGORIAN
METHOD:PUBLISH
X-WR-CALNAME:Paddy Whelan`s
X-ORIGINAL-URL:https://www.paddywhelans.com
X-WR-CALDESC:Events for Paddy Whelan`s
BEGIN:VEVENT
DTSTART;TZID="UTC+3":20220920T220000
DTEND;TZID="UTC+3":20220920T230000
DTSTAMP:20260425T234852
CREATED:20220916T153703
LAST-MODIFIED:20220916T153703
UID:17872-1663711200-1663714800@www.paddywhelans.com
SUMMARY:Dodgers – Diamondbacks
DESCRIPTION:
URL:https://www.paddywhelans.com/event/dodgers-diamondbacks/
CATEGORIES:American Sports
END:VEVENT
END:VCALENDAR