BEGIN:VCALENDAR
VERSION:2.0
PRODID:-//Paddy Whelan`s - ECPv4.0.5//NONSGML v1.0//EN
CALSCALE:GREGORIAN
METHOD:PUBLISH
X-WR-CALNAME:Paddy Whelan`s
X-ORIGINAL-URL:https://www.paddywhelans.com
X-WR-CALDESC:Events for Paddy Whelan`s
BEGIN:VEVENT
DTSTART;TZID="UTC+3":20220914T183000
DTEND;TZID="UTC+3":20220914T210000
DTSTAMP:20260424T050217
CREATED:20220909T152810
LAST-MODIFIED:20220909T152810
UID:17777-1663180200-1663189200@www.paddywhelans.com
SUMMARY:Dinamo Riga – Dinaburga
DESCRIPTION:
URL:https://www.paddywhelans.com/event/dinamo-riga-dinaburga/
CATEGORIES:Ice Hockey
END:VEVENT
END:VCALENDAR