BEGIN:VCALENDAR
VERSION:2.0
PRODID:-//Paddy Whelan`s - ECPv4.0.5//NONSGML v1.0//EN
CALSCALE:GREGORIAN
METHOD:PUBLISH
X-WR-CALNAME:Paddy Whelan`s
X-ORIGINAL-URL:https://www.paddywhelans.com
X-WR-CALDESC:Events for Paddy Whelan`s
BEGIN:VEVENT
DTSTART;TZID="UTC+3":20180810T120000
DTEND;TZID="UTC+3":20180810T170000
DTSTAMP:20260426T022326
CREATED:20180805T121219
LAST-MODIFIED:20180805T121219
UID:5373-1533902400-1533920400@www.paddywhelans.com
SUMMARY:Darts: World Series\, Melbourne Darts Masters
DESCRIPTION:
URL:https://www.paddywhelans.com/event/darts-world-series-melbourne-darts-masters/
CATEGORIES:Other Sports
END:VEVENT
END:VCALENDAR