BEGIN:VCALENDAR
VERSION:2.0
PRODID:-//Paddy Whelan`s - ECPv4.0.5//NONSGML v1.0//EN
CALSCALE:GREGORIAN
METHOD:PUBLISH
X-WR-CALNAME:Paddy Whelan`s
X-ORIGINAL-URL:https://www.paddywhelans.com
X-WR-CALDESC:Events for Paddy Whelan`s
BEGIN:VEVENT
DTSTART;TZID="UTC+3":20180805T090000
DTEND;TZID="UTC+3":20180805T170000
DTSTAMP:20260425T134431
CREATED:20180729T222441
LAST-MODIFIED:20180729T222441
UID:5366-1533459600-1533488400@www.paddywhelans.com
SUMMARY:Darts: World Series\, Auckland Darts Masters\, Finals
DESCRIPTION:
URL:https://www.paddywhelans.com/event/darts-world-series-auckland-darts-masters-finals/
CATEGORIES:Other Sports
END:VEVENT
END:VCALENDAR