BEGIN:VCALENDAR
VERSION:2.0
PRODID:-//Paddy Whelan`s - ECPv4.0.5//NONSGML v1.0//EN
CALSCALE:GREGORIAN
METHOD:PUBLISH
X-WR-CALNAME:Paddy Whelan`s
X-ORIGINAL-URL:https://www.paddywhelans.com
X-WR-CALDESC:Events for Paddy Whelan`s
BEGIN:VEVENT
DTSTART;TZID="UTC+3":20181230T210000
DTEND;TZID="UTC+3":20181230T210000
DTSTAMP:20260423T163040
CREATED:20181223T210139
LAST-MODIFIED:20181223T210139
UID:5917-1546203600-1546203600@www.paddywhelans.com
SUMMARY:Darts: William Hill World Championship\, Semi-Finals
DESCRIPTION:
URL:https://www.paddywhelans.com/event/darts-william-hill-world-championship-semi-finals/
CATEGORIES:Other Sports
END:VEVENT
END:VCALENDAR