BEGIN:VCALENDAR
VERSION:2.0
PRODID:-//Paddy Whelan`s - ECPv4.0.5//NONSGML v1.0//EN
CALSCALE:GREGORIAN
METHOD:PUBLISH
X-WR-CALNAME:Paddy Whelan`s
X-ORIGINAL-URL:https://www.paddywhelans.com
X-WR-CALDESC:Events for Paddy Whelan`s
BEGIN:VEVENT
DTSTART;TZID="UTC+3":20181229T143000
DTEND;TZID="UTC+3":20181229T143000
DTSTAMP:20260423T193032
CREATED:20181223T205813
LAST-MODIFIED:20181223T205813
UID:5911-1546093800-1546093800@www.paddywhelans.com
SUMMARY:Darts: William Hill World Championship\, Quarter-Finals
DESCRIPTION:
URL:https://www.paddywhelans.com/event/darts-william-hill-world-championship-quarter-finals/
CATEGORIES:Other Sports
END:VEVENT
END:VCALENDAR