BEGIN:VCALENDAR
VERSION:2.0
PRODID:-//Paddy Whelan`s - ECPv4.0.5//NONSGML v1.0//EN
CALSCALE:GREGORIAN
METHOD:PUBLISH
X-WR-CALNAME:Paddy Whelan`s
X-ORIGINAL-URL:https://www.paddywhelans.com
X-WR-CALDESC:Events for Paddy Whelan`s
BEGIN:VEVENT
DTSTART;TZID="UTC+3":20181220T224500
DTEND;TZID="UTC+3":20181220T224500
DTSTAMP:20260425T013513
CREATED:20181217T094930
LAST-MODIFIED:20181217T094930
UID:5863-1545345900-1545345900@www.paddywhelans.com
SUMMARY:Darts: William Hill World Championship\, Day 8 Evening
DESCRIPTION:
URL:https://www.paddywhelans.com/event/darts-william-hill-world-championship-day-8-evening/
CATEGORIES:Other Sports
END:VEVENT
END:VCALENDAR