BEGIN:VCALENDAR
VERSION:2.0
PRODID:-//Paddy Whelan`s - ECPv4.0.5//NONSGML v1.0//EN
CALSCALE:GREGORIAN
METHOD:PUBLISH
X-WR-CALNAME:Paddy Whelan`s
X-ORIGINAL-URL:https://www.paddywhelans.com
X-WR-CALDESC:Events for Paddy Whelan`s
BEGIN:VEVENT
DTSTART;TZID="UTC+3":20181222T210000
DTEND;TZID="UTC+3":20181222T210000
DTSTAMP:20260424T123643
CREATED:20181217T100329
LAST-MODIFIED:20181217T100329
UID:5880-1545512400-1545512400@www.paddywhelans.com
SUMMARY:Darts: William Hill World Championship\, Day 10 Evening
DESCRIPTION:
URL:https://www.paddywhelans.com/event/darts-william-hill-world-championship-day-10-evening/
CATEGORIES:Other Sports
END:VEVENT
END:VCALENDAR