BEGIN:VCALENDAR
VERSION:2.0
PRODID:-//Paddy Whelan`s - ECPv4.0.5//NONSGML v1.0//EN
CALSCALE:GREGORIAN
METHOD:PUBLISH
X-WR-CALNAME:Paddy Whelan`s
X-ORIGINAL-URL:https://www.paddywhelans.com
X-WR-CALDESC:Events for Paddy Whelan`s
BEGIN:VEVENT
DTSTART;TZID="UTC+3":20220908T183000
DTEND;TZID="UTC+3":20220908T200000
DTSTAMP:20260423T002754
CREATED:20220903T173459
LAST-MODIFIED:20220903T173459
UID:17694-1662661800-1662667200@www.paddywhelans.com
SUMMARY:Czech Republic – Israel
DESCRIPTION:
URL:https://www.paddywhelans.com/event/czech-republic-israel/
CATEGORIES:Basketball
END:VEVENT
END:VCALENDAR