BEGIN:VCALENDAR
VERSION:2.0
PRODID:-//Paddy Whelan`s - ECPv4.0.5//NONSGML v1.0//EN
CALSCALE:GREGORIAN
METHOD:PUBLISH
X-WR-CALNAME:Paddy Whelan`s
X-ORIGINAL-URL:https://www.paddywhelans.com
X-WR-CALDESC:Events for Paddy Whelan`s
BEGIN:VEVENT
DTSTART;TZID="UTC+3":20220827T153000
DTEND;TZID="UTC+3":20220827T190000
DTSTAMP:20260425T191136
CREATED:20220820T144706
LAST-MODIFIED:20220820T144706
UID:17445-1661614200-1661626800@www.paddywhelans.com
SUMMARY:Cycling Tour of Spain\, Stage 8\, Men
DESCRIPTION:
URL:https://www.paddywhelans.com/event/cycling-tour-of-spain-stage-8-men/
CATEGORIES:Other Sports
END:VEVENT
END:VCALENDAR