BEGIN:VCALENDAR
VERSION:2.0
PRODID:-//Paddy Whelan`s - ECPv4.0.5//NONSGML v1.0//EN
CALSCALE:GREGORIAN
METHOD:PUBLISH
X-WR-CALNAME:Paddy Whelan`s
X-ORIGINAL-URL:https://www.paddywhelans.com
X-WR-CALDESC:Events for Paddy Whelan`s
BEGIN:VEVENT
DTSTART;TZID="UTC+3":20220826T153000
DTEND;TZID="UTC+3":20220826T180000
DTSTAMP:20260425T205810
CREATED:20220820T143114
LAST-MODIFIED:20220820T143114
UID:17434-1661527800-1661536800@www.paddywhelans.com
SUMMARY:Cycling Tour of Spain\, Stage 7\, Men
DESCRIPTION:
URL:https://www.paddywhelans.com/event/cycling-tour-of-spain-stage-7-men/
CATEGORIES:Other Sports
END:VEVENT
END:VCALENDAR