BEGIN:VCALENDAR
VERSION:2.0
PRODID:-//Paddy Whelan`s - ECPv4.0.5//NONSGML v1.0//EN
CALSCALE:GREGORIAN
METHOD:PUBLISH
X-WR-CALNAME:Paddy Whelan`s
X-ORIGINAL-URL:https://www.paddywhelans.com
X-WR-CALDESC:Events for Paddy Whelan`s
BEGIN:VEVENT
DTSTART;TZID="UTC+3":20220908T153000
DTEND;TZID="UTC+3":20220908T190000
DTSTAMP:20260423T041941
CREATED:20220903T171428
LAST-MODIFIED:20220903T171428
UID:17655-1662651000-1662663600@www.paddywhelans.com
SUMMARY:Cycling Tour of Spain\, Stage 18\, Men
DESCRIPTION:
URL:https://www.paddywhelans.com/event/cycling-tour-of-spain-stage-18-men/
CATEGORIES:Other Sports
END:VEVENT
END:VCALENDAR