BEGIN:VCALENDAR
VERSION:2.0
PRODID:-//Paddy Whelan`s - ECPv4.0.5//NONSGML v1.0//EN
CALSCALE:GREGORIAN
METHOD:PUBLISH
X-WR-CALNAME:Paddy Whelan`s
X-ORIGINAL-URL:https://www.paddywhelans.com
X-WR-CALDESC:Events for Paddy Whelan`s
BEGIN:VEVENT
DTSTART;TZID="UTC+3":20220906T153000
DTEND;TZID="UTC+3":20220906T190000
DTSTAMP:20260425T032828
CREATED:20220903T161237
LAST-MODIFIED:20220903T161237
UID:17614-1662478200-1662490800@www.paddywhelans.com
SUMMARY:Cycling Tour of Spain\, Stage 16\, Men
DESCRIPTION:
URL:https://www.paddywhelans.com/event/cycling-tour-of-spain-stage-16-men/
CATEGORIES:Other Sports
END:VEVENT
END:VCALENDAR