BEGIN:VCALENDAR
VERSION:2.0
PRODID:-//Paddy Whelan`s - ECPv4.0.5//NONSGML v1.0//EN
CALSCALE:GREGORIAN
METHOD:PUBLISH
X-WR-CALNAME:Paddy Whelan`s
X-ORIGINAL-URL:https://www.paddywhelans.com
X-WR-CALDESC:Events for Paddy Whelan`s
BEGIN:VEVENT
DTSTART;TZID="UTC+3":20220901T153000
DTEND;TZID="UTC+3":20220901T190000
DTSTAMP:20260425T152438
CREATED:20220827T162204
LAST-MODIFIED:20220827T162204
UID:17513-1662046200-1662058800@www.paddywhelans.com
SUMMARY:Cycling Tour of Spain\, Stage 12\, Men
DESCRIPTION:
URL:https://www.paddywhelans.com/event/cycling-tour-of-spain-stage-12-men/
CATEGORIES:Other Sports
END:VEVENT
END:VCALENDAR