BEGIN:VCALENDAR
VERSION:2.0
PRODID:-//Paddy Whelan`s - ECPv4.0.5//NONSGML v1.0//EN
CALSCALE:GREGORIAN
METHOD:PUBLISH
X-WR-CALNAME:Paddy Whelan`s
X-ORIGINAL-URL:https://www.paddywhelans.com
X-WR-CALDESC:Events for Paddy Whelan`s
BEGIN:VEVENT
DTSTART;TZID="UTC+3":20220831T153000
DTEND;TZID="UTC+3":20220831T180000
DTSTAMP:20260425T121115
CREATED:20220827T152710
LAST-MODIFIED:20220827T152710
UID:17500-1661959800-1661968800@www.paddywhelans.com
SUMMARY:Cycling Tour of Spain\, Stage 11\, Men
DESCRIPTION:
URL:https://www.paddywhelans.com/event/cycling-tour-of-spain-stage-11-men/
CATEGORIES:Other Sports
END:VEVENT
END:VCALENDAR