BEGIN:VCALENDAR
VERSION:2.0
PRODID:-//Paddy Whelan`s - ECPv4.0.5//NONSGML v1.0//EN
CALSCALE:GREGORIAN
METHOD:PUBLISH
X-WR-CALNAME:Paddy Whelan`s
X-ORIGINAL-URL:https://www.paddywhelans.com
X-WR-CALDESC:Events for Paddy Whelan`s
BEGIN:VEVENT
DTSTART;TZID="UTC+3":20220830T153000
DTEND;TZID="UTC+3":20220830T180000
DTSTAMP:20260425T132505
CREATED:20220827T151105
LAST-MODIFIED:20220827T151105
UID:17490-1661873400-1661882400@www.paddywhelans.com
SUMMARY:Cycling Tour of Spain\, Stage 10\, Men
DESCRIPTION:
URL:https://www.paddywhelans.com/event/cycling-tour-of-spain-stage-10-men/
CATEGORIES:Other Sports
END:VEVENT
END:VCALENDAR