BEGIN:VCALENDAR
VERSION:2.0
PRODID:-//Paddy Whelan`s - ECPv4.0.5//NONSGML v1.0//EN
CALSCALE:GREGORIAN
METHOD:PUBLISH
X-WR-CALNAME:Paddy Whelan`s
X-ORIGINAL-URL:https://www.paddywhelans.com
X-WR-CALDESC:Events for Paddy Whelan`s
BEGIN:VEVENT
DTSTART;TZID="UTC+3":20220913T183000
DTEND;TZID="UTC+3":20220918T200000
DTSTAMP:20260425T013652
CREATED:20220909T151808
LAST-MODIFIED:20220909T151808
UID:17763-1663093800-1663531200@www.paddywhelans.com
SUMMARY:Cycling Tour of Slovakia\, Men
DESCRIPTION:
URL:https://www.paddywhelans.com/event/cycling-tour-of-slovakia-men/
CATEGORIES:Other Sports
END:VEVENT
END:VCALENDAR