BEGIN:VCALENDAR
VERSION:2.0
PRODID:-//Paddy Whelan`s - ECPv4.0.5//NONSGML v1.0//EN
CALSCALE:GREGORIAN
METHOD:PUBLISH
X-WR-CALNAME:Paddy Whelan`s
X-ORIGINAL-URL:https://www.paddywhelans.com
X-WR-CALDESC:Events for Paddy Whelan`s
BEGIN:VEVENT
DTSTART;TZID="UTC+3":20220909T192000
DTEND;TZID="UTC+3":20220909T210000
DTSTAMP:20260424T020850
CREATED:20220903T173758
LAST-MODIFIED:20220903T173758
UID:17699-1662751200-1662757200@www.paddywhelans.com
SUMMARY:Cycling La Madrid Challenge by La Vuelta\, Stage 3\, Women
DESCRIPTION:
URL:https://www.paddywhelans.com/event/cycling-la-madrid-challenge-by-la-vuelta-stage-3-women/
CATEGORIES:Other Sports
END:VEVENT
END:VCALENDAR