BEGIN:VCALENDAR
VERSION:2.0
PRODID:-//Paddy Whelan`s - ECPv4.0.5//NONSGML v1.0//EN
CALSCALE:GREGORIAN
METHOD:PUBLISH
X-WR-CALNAME:Paddy Whelan`s
X-ORIGINAL-URL:https://www.paddywhelans.com
X-WR-CALDESC:Events for Paddy Whelan`s
BEGIN:VEVENT
DTSTART;TZID="UTC+3":20220908T192000
DTEND;TZID="UTC+3":20220908T220000
DTSTAMP:20260422T223513
CREATED:20220903T171513
LAST-MODIFIED:20220903T171513
UID:17656-1662664800-1662674400@www.paddywhelans.com
SUMMARY:Cycling La Madrid Challenge by La Vuelta\, Stage 2\, Women
DESCRIPTION:
URL:https://www.paddywhelans.com/event/cycling-la-madrid-challenge-by-la-vuelta-stage-2-women/
CATEGORIES:Other Sports
END:VEVENT
END:VCALENDAR