BEGIN:VCALENDAR
VERSION:2.0
PRODID:-//Paddy Whelan`s - ECPv4.0.5//NONSGML v1.0//EN
CALSCALE:GREGORIAN
METHOD:PUBLISH
X-WR-CALNAME:Paddy Whelan`s
X-ORIGINAL-URL:https://www.paddywhelans.com
X-WR-CALDESC:Events for Paddy Whelan`s
BEGIN:VEVENT
DTSTART;TZID="UTC+3":20220907T192000
DTEND;TZID="UTC+3":20220907T210000
DTSTAMP:20260424T075007
CREATED:20220903T164107
LAST-MODIFIED:20220903T164107
UID:17637-1662578400-1662584400@www.paddywhelans.com
SUMMARY:Cycling La Madrid Challenge by La Vuelta\, Stage 1\, Women
DESCRIPTION:
URL:https://www.paddywhelans.com/event/cycling-la-madrid-challenge-by-la-vuelta-stage-1-women/
CATEGORIES:Other Sports
END:VEVENT
END:VCALENDAR