BEGIN:VCALENDAR
VERSION:2.0
PRODID:-//Paddy Whelan`s - ECPv4.0.5//NONSGML v1.0//EN
CALSCALE:GREGORIAN
METHOD:PUBLISH
X-WR-CALNAME:Paddy Whelan`s
X-ORIGINAL-URL:https://www.paddywhelans.com
X-WR-CALDESC:Events for Paddy Whelan`s
BEGIN:VEVENT
DTSTART;TZID="UTC+3":20220909T230000
DTEND;TZID="UTC+3":20220909T235500
DTSTAMP:20260424T102619
CREATED:20220903T173631
LAST-MODIFIED:20220903T173631
UID:17697-1662764400-1662767700@www.paddywhelans.com
SUMMARY:Cubs – Giants
DESCRIPTION:
URL:https://www.paddywhelans.com/event/cubs-giants/
CATEGORIES:American Sports
END:VEVENT
END:VCALENDAR