BEGIN:VCALENDAR
VERSION:2.0
PRODID:-//Paddy Whelan`s - ECPv4.0.5//NONSGML v1.0//EN
CALSCALE:GREGORIAN
METHOD:PUBLISH
X-WR-CALNAME:Paddy Whelan`s
X-ORIGINAL-URL:https://www.paddywhelans.com
X-WR-CALDESC:Events for Paddy Whelan`s
BEGIN:VEVENT
DTSTART;TZID="UTC+3":20220826T163000
DTEND;TZID="UTC+3":20220828T210000
DTSTAMP:20260425T223718
CREATED:20220820T143202
LAST-MODIFIED:20220820T143202
UID:17435-1661531400-1661720400@www.paddywhelans.com
SUMMARY:Canadian Pacific Women's Open
DESCRIPTION:
URL:https://www.paddywhelans.com/event/canadian-pacific-womens-open-2/
CATEGORIES:Other Sports
END:VEVENT
END:VCALENDAR