BEGIN:VCALENDAR
VERSION:2.0
PRODID:-//Paddy Whelan`s - ECPv4.0.5//NONSGML v1.0//EN
CALSCALE:GREGORIAN
METHOD:PUBLISH
X-WR-CALNAME:Paddy Whelan`s
X-ORIGINAL-URL:https://www.paddywhelans.com
X-WR-CALDESC:Events for Paddy Whelan`s
BEGIN:VEVENT
DTSTART;TZID="UTC+3":20220829T210000
DTEND;TZID="UTC+3":20220829T230000
DTSTAMP:20260425T152130
CREATED:20220827T150944
LAST-MODIFIED:20220827T150944
UID:17488-1661806800-1661814000@www.paddywhelans.com
SUMMARY:Cadiz – Athletic Bilbao
DESCRIPTION:
URL:https://www.paddywhelans.com/event/cadiz-athletic-bilbao/
CATEGORIES:La Liga
END:VEVENT
END:VCALENDAR