BEGIN:VCALENDAR
VERSION:2.0
PRODID:-//Paddy Whelan`s - ECPv4.0.5//NONSGML v1.0//EN
CALSCALE:GREGORIAN
METHOD:PUBLISH
X-WR-CALNAME:Paddy Whelan`s
X-ORIGINAL-URL:https://www.paddywhelans.com
X-WR-CALDESC:Events for Paddy Whelan`s
BEGIN:VEVENT
DTSTART;TZID="UTC+3":20220923T213000
DTEND;TZID="UTC+3":20220923T230000
DTSTAMP:20260426T003212
CREATED:20220916T163544
LAST-MODIFIED:20220916T163544
UID:17892-1663968600-1663974000@www.paddywhelans.com
SUMMARY:Brazil – Ghana
DESCRIPTION:
URL:https://www.paddywhelans.com/event/brazil-ghana/
CATEGORIES:International Football
END:VEVENT
END:VCALENDAR