BEGIN:VCALENDAR
VERSION:2.0
PRODID:-//Paddy Whelan`s - ECPv4.0.5//NONSGML v1.0//EN
CALSCALE:GREGORIAN
METHOD:PUBLISH
X-WR-CALNAME:Paddy Whelan`s
X-ORIGINAL-URL:https://www.paddywhelans.com
X-WR-CALDESC:Events for Paddy Whelan`s
BEGIN:VEVENT
DTSTART;TZID="UTC+3":20190119T184500
DTEND;TZID="UTC+3":20190119T184500
DTSTAMP:20260422T055735
CREATED:20190113T143859
LAST-MODIFIED:20190113T143859
UID:6000-1547923500-1547923500@www.paddywhelans.com
SUMMARY:Boxing: Dina Thorslund VS Dennis Ceylan
DESCRIPTION:
URL:https://www.paddywhelans.com/event/boxing-dina-thorslund-vs-dennis-ceylan/
CATEGORIES:Boxing / Fighting
END:VEVENT
END:VCALENDAR