BEGIN:VCALENDAR
VERSION:2.0
PRODID:-//Paddy Whelan`s - ECPv4.0.5//NONSGML v1.0//EN
CALSCALE:GREGORIAN
METHOD:PUBLISH
X-WR-CALNAME:Paddy Whelan`s
X-ORIGINAL-URL:https://www.paddywhelans.com
X-WR-CALDESC:Events for Paddy Whelan`s
BEGIN:VEVENT
DTSTART;TZID="UTC+3":20181207T142000
DTEND;TZID="UTC+3":20181207T142000
DTSTAMP:20260425T223843
CREATED:20181202T210021
LAST-MODIFIED:20181202T210021
UID:5784-1544192400-1544192400@www.paddywhelans.com
SUMMARY:Bobsleigh – BMW IBSF World Cup: 2-woman Bobsleigh
DESCRIPTION:
URL:https://www.paddywhelans.com/event/bobsleigh-bmw-ibsf-world-cup-2-woman-bobsleigh/
CATEGORIES:Other Sports
END:VEVENT
END:VCALENDAR